BEGIN:VCALENDAR
VERSION:2.0
PRODID:-//Gallatin County Mental Health Local Advisory Council - ECPv6.15.20//NONSGML v1.0//EN
CALSCALE:GREGORIAN
METHOD:PUBLISH
X-ORIGINAL-URL:https://www.gcmhlac.com
X-WR-CALDESC:Events for Gallatin County Mental Health Local Advisory Council
REFRESH-INTERVAL;VALUE=DURATION:PT1H
X-Robots-Tag:noindex
X-PUBLISHED-TTL:PT1H
BEGIN:VTIMEZONE
TZID:America/Denver
BEGIN:DAYLIGHT
TZOFFSETFROM:-0700
TZOFFSETTO:-0600
TZNAME:MDT
DTSTART:20250309T090000
END:DAYLIGHT
BEGIN:STANDARD
TZOFFSETFROM:-0600
TZOFFSETTO:-0700
TZNAME:MST
DTSTART:20251102T080000
END:STANDARD
BEGIN:DAYLIGHT
TZOFFSETFROM:-0700
TZOFFSETTO:-0600
TZNAME:MDT
DTSTART:20260308T090000
END:DAYLIGHT
BEGIN:STANDARD
TZOFFSETFROM:-0600
TZOFFSETTO:-0700
TZNAME:MST
DTSTART:20261101T080000
END:STANDARD
BEGIN:DAYLIGHT
TZOFFSETFROM:-0700
TZOFFSETTO:-0600
TZNAME:MDT
DTSTART:20270314T090000
END:DAYLIGHT
BEGIN:STANDARD
TZOFFSETFROM:-0600
TZOFFSETTO:-0700
TZNAME:MST
DTSTART:20271107T080000
END:STANDARD
END:VTIMEZONE
BEGIN:VEVENT
DTSTART;TZID=America/Denver:20260502T180000
DTEND;TZID=America/Denver:20260502T213000
DTSTAMP:20260421T070009
CREATED:20260410T191313Z
LAST-MODIFIED:20260410T191313Z
UID:755-1777744800-1777757400@www.gcmhlac.com
SUMMARY:A Night Of Hope Featuring Stephanie Quayle
DESCRIPTION:You can be a Hero – Together\, let’s make a difference in Suicide Prevention for Montanans!\n\n\n\nArmory Music Hall presents A Night of Hope benefit concert with Stephanie Quayle!\nAll proceeds benefit the American Foundation for Suicide Prevention Montana Chapter. \n‍Event Details:\nDoors Open: 6:00 pm\nTBA Opening Act: 7:00-7:45 pm\nStephanie Quayle: 8:00-9:30 pm \n• All Ages General Admission & VIP Balcony\n• Everyone Needs A Ticket To Enter\n• No weapons (including pocket knives)\n• No outside food or beverage will be allowed in the venue\n• Only small handbags and purses up to 9” x 5” are permitted and subject to search\n• Please note\, there is no re-entry for all patrons who go beyond the smokers corral\n• Tickets Are Non-Refundable – If for any reason Artist cancels\, tickets will be refunded.\n• For more information on VIP & Guest packages\, please contact info@decomusicgrp.com‍ \nMore About Stephanie Quayle: \nStephanie Quayle is a Nashville recording artist who tours the world with her music and an entrepreneur with her own record label\, Big Sky Music Group. Rolling Stone Country called her “an artist you need to know\,” CMT named her as part of its “Next Women of Country” franchise\, and she’s appeared on popular programs like The Kelly Clarkson Show and The Ellen DeGeneres Show. As an indie artist with two Billboard charted singles\, “Selfish” and “Whatcha Drinkin ’Bout\,” she has repeatedly performed at CMA Fest and the Grand Ole Opry. The Montana native has teamed up with recognizable brands like Wrangler\, Harley-Davidson\, Bass Pro Shops\, Montana Silversmiths\, as well as Lucchese Bootmaker in the creation of her exclusive boot line. Quayle’s latest album On the Edge chronicles her personal experience in a toxic relationship and the healing she’s gone through since—inspiring others and redefining her future. \nwww.stephaniequayle.com \nMore About The American Foundation for Suicide Prevention: \nAFSP Montana Chapter was founded in 2001 and has been working to educate Montana about suicide prevention\, advocate for legislation that will save lives\, and support those who’ve experienced loss or who have lived experience. We believe that suicide is preventable\, and that with enough people doing the work\, spreading the message and stomping out stigma\, we can make a difference.  As a voluntary organization\, our grassroots efforts engage families\, mental health professionals\, community and local business leaders\, school administrators and others interested in preventing suicide. \nWe hope you will join us in the fight to #StopSuicide by supporting the AFSP Montana Chapter as a volunteer\, walker\, advocate\, donor\, or sponsor! \nafsp.org/chapter/montana
URL:https://www.gcmhlac.com/event/a-night-of-hope-featuring-stephanie-quayle/
LOCATION:Armory Music Hall\, 24 W Mendenhall St\, Bozeman\, MT\, 59715\, United States
ATTACH;FMTTYPE=image/png:https://www.gcmhlac.com/wp-content/uploads/2026/04/A-Night-of-HOPE.png
END:VEVENT
BEGIN:VEVENT
DTSTART;TZID=America/Denver:20260514T110000
DTEND;TZID=America/Denver:20260514T120000
DTSTAMP:20260421T070009
CREATED:20260416T163031Z
LAST-MODIFIED:20260416T163031Z
UID:770-1778756400-1778760000@www.gcmhlac.com
SUMMARY:CogniCare Support Group
DESCRIPTION:Join each month for a welcoming gathering designed to support those caring for or supporting a loved one with cognitive loss. This group is open to caregivers\, family members\, friends\, or individuals in the early stages of cognitive change.  Together we’ll explore educational topics\, practical coping tools\, and have a shared experience in a supportive setting. \nHosted by the Belgrade Community Library in partnership with Spring Creek Memory Care \n2nd Thursday of Every Month | 11:00AM – Noon
URL:https://www.gcmhlac.com/event/cognicare-support-group/
LOCATION:Belgrade Community Library\, 205 E Main St\, Belgrade\, MT\, 59714\, United States
ATTACH;FMTTYPE=image/png:https://www.gcmhlac.com/wp-content/uploads/2026/04/Belgrade-Community-Library.png
END:VEVENT
BEGIN:VEVENT
DTSTART;TZID=America/Denver:20260516T083000
DTEND;TZID=America/Denver:20260516T130000
DTSTAMP:20260421T070009
CREATED:20260212T180309Z
LAST-MODIFIED:20260212T194624Z
UID:696-1778920200-1778936400@www.gcmhlac.com
SUMMARY:The Aging Veteran: What You Need to Know
DESCRIPTION:This is a Town Hall event. Topics include Healthcare and the Aging Veteran: Dr. Molly McGaughey\, Benefit Programs\, and more.  ALL veterans are invited\, plus spouses and a family member. No registration fee.  Sponsored by the Vietnam Veterans of America Southwest Montana Chapter\, in partnership with Montana VA. \nFor more information\, contact:\nSteve Holland Sholland406@outlook.com or\nChuck Renevier cdrinmt@gmail.com
URL:https://www.gcmhlac.com/event/the-aging-veteran-what-you-need-to-know/
LOCATION:GranTree Best Western\, 1325 N. 7th Ave\, Bozeman\, MT\, 59715\, United States
CATEGORIES:Veterans
ATTACH;FMTTYPE=image/png:https://www.gcmhlac.com/wp-content/uploads/2026/02/image-2.png
END:VEVENT
END:VCALENDAR